BEGIN:VCALENDAR
VERSION:2.0
PRODID:-//Contratero//ES
CALSCALE:GREGORIAN
METHOD:PUBLISH
BEGIN:VEVENT
UID:2025 1989@contratero.es
DTSTAMP:20260422T064115Z
DTSTART:20260113T235959
DTEND:20260114T005959
SUMMARY:Cierre: Suministro de 3 licencias software Microsoft SQL S
DESCRIPTION:Suministro de 3 licencias software Microsoft SQL Serverstandard Core para los servicios del Ayuntamiento de El Ejido.\\n\\nOrganismo: Junta de Gobierno Local del Ayuntamiento de El Ejido\\n\\nVer en Contratero: https://contratero.es/contracts/2025 1989
URL:https://contratero.es/contracts/2025 1989
STATUS:CONFIRMED
BEGIN:VALARM
TRIGGER:-P1D
ACTION:DISPLAY
DESCRIPTION:Recordatorio: Suministro de 3 licencias soft
END:VALARM
END:VEVENT
END:VCALENDAR